BEGIN:VCALENDAR
VERSION:2.0
PRODID:-//dhtmlXScheduler//NONSGML v2.2//EN
X-WR-CALNAME:Wydarzenia
BEGIN:VEVENT
DTSTART:20240620T080000
DTEND:20260419T174616
UID:1
SUMMARY:ZAWIADOMIENIE o publicznym kolokwium habilitacyjnym dr Agnieszki Marty Piekutowskiej
END:VEVENT
END:VCALENDAR