BEGIN:VCALENDAR
VERSION:2.0
PRODID:-//dhtmlXScheduler//NONSGML v2.2//EN
X-WR-CALNAME:Wydarzenia
BEGIN:VEVENT
DTSTART:20240614T000000
DTEND:20260421T140140
UID:1
SUMMARY:Zaproszenie na Konferencję naukową nt. „Synergia nauki, gospodarki i społeczeństwa w dobie dynamicznych zmian. Ujęcie ekonomiczne, filologiczne i pedagogiczne”
END:VEVENT
END:VCALENDAR