BEGIN:VCALENDAR
VERSION:2.0
PRODID:-//dhtmlXScheduler//NONSGML v2.2//EN
X-WR-CALNAME:Wydarzenia
BEGIN:VEVENT
DTSTART:20240222T000000
DTEND:20240223T000000
UID:1
SUMMARY:Zaproszenie na konferencję naukową „Institutions and Survival. Challenges for Sustainability”
END:VEVENT
END:VCALENDAR