BEGIN:VCALENDAR
VERSION:2.0
PRODID:-//dhtmlXScheduler//NONSGML v2.2//EN
X-WR-CALNAME:Wydarzenia
BEGIN:VEVENT
DTSTART:20221010T000000
DTEND:20260419T174505
UID:1
SUMMARY:Zapisy na przedmioty realizowane w języku angielskim w semestrze zimowym roku akademickiego 2022/2023
END:VEVENT
END:VCALENDAR