BEGIN:VCALENDAR
VERSION:2.0
PRODID:-//dhtmlXScheduler//NONSGML v2.2//EN
X-WR-CALNAME:Wydarzenia
BEGIN:VEVENT
DTSTART:20240614T000000
DTEND:20260421T140140
UID:1
SUMMARY:XVI edycja Konkursu o Nagrodę Prezesa NBP za najlepszą pracę magisterską z zakresu nauk ekonomicznych.
END:VEVENT
END:VCALENDAR