BEGIN:VCALENDAR
VERSION:2.0
PRODID:-//dhtmlXScheduler//NONSGML v2.2//EN
X-WR-CALNAME:Wydarzenia
BEGIN:VEVENT
DTSTART:20241127T180000
DTEND:20241127T193000
UID:1
SUMMARY:Wykład otwarty nt. Wstęp do austriackiej szkoły ekonomii
END:VEVENT
END:VCALENDAR