BEGIN:VCALENDAR
VERSION:2.0
PRODID:-//dhtmlXScheduler//NONSGML v2.2//EN
X-WR-CALNAME:Wydarzenia
BEGIN:VEVENT
DTSTART:20230930T000000
DTEND:20260423T010242
UID:1
SUMMARY:VI Konkurs im. Prof. Adama Sadowskiego na najlepszą pracę dyplomową i magisterską
END:VEVENT
END:VCALENDAR