BEGIN:VCALENDAR
VERSION:2.0
PRODID:-//dhtmlXScheduler//NONSGML v2.2//EN
X-WR-CALNAME:Wydarzenia
BEGIN:VEVENT
DTSTART:20241208T093000
DTEND:20241208T143000
UID:1
SUMMARY:Turniej szachowy o "Puchar Dziekana Wydziału Prawa Uniwersytetu w Białymstoku"
END:VEVENT
END:VCALENDAR