BEGIN:VCALENDAR
VERSION:2.0
PRODID:-//dhtmlXScheduler//NONSGML v2.2//EN
X-WR-CALNAME:Wydarzenia
BEGIN:VEVENT
DTSTART:20250612T083000
DTEND:20250612T100000
UID:1
SUMMARY:Szkolenie członków komisji egzaminacyjnej (pracownicy WEiF)
END:VEVENT
END:VCALENDAR