BEGIN:VCALENDAR
VERSION:2.0
PRODID:-//dhtmlXScheduler//NONSGML v2.2//EN
X-WR-CALNAME:Wydarzenia
BEGIN:VEVENT
DTSTART:20230118T000000
DTEND:20260424T025127
UID:1
SUMMARY:Stypendia Ministerstwa Spraw Zagranicznych RP – trwa nabór na roczne pomagisterskie studia w College of Europe
END:VEVENT
END:VCALENDAR