BEGIN:VCALENDAR
VERSION:2.0
PRODID:-//dhtmlXScheduler//NONSGML v2.2//EN
X-WR-CALNAME:Wydarzenia
BEGIN:VEVENT
DTSTART:20240607T000000
DTEND:20260419T174253
UID:1
SUMMARY:Spotkanie z przedstawicielką Uniwersytetu "Aleksander Moisiu" w Durres (Albania).
END:VEVENT
END:VCALENDAR