BEGIN:VCALENDAR
VERSION:2.0
PRODID:-//dhtmlXScheduler//NONSGML v2.2//EN
X-WR-CALNAME:Wydarzenia
BEGIN:VEVENT
DTSTART:20240121T000000
DTEND:20260422T065147
UID:1
SUMMARY:PAC - Ogólnopolski Konkurs z Rachunkowości
END:VEVENT
END:VCALENDAR