BEGIN:VCALENDAR
VERSION:2.0
PRODID:-//dhtmlXScheduler//NONSGML v2.2//EN
X-WR-CALNAME:Wydarzenia
BEGIN:VEVENT
DTSTART:20241125T080000
DTEND:20241125T160000
UID:1
SUMMARY:Ogólnopolski Dzień Erasmusa
END:VEVENT
END:VCALENDAR