BEGIN:VCALENDAR
VERSION:2.0
PRODID:-//dhtmlXScheduler//NONSGML v2.2//EN
X-WR-CALNAME:Wydarzenia
BEGIN:VEVENT
DTSTART:20240611T100000
DTEND:20260420T083322
UID:1
SUMMARY:"Ogłoszenie OKW nr 12 - pozostali nauczyciele akademiccy Wydziału Ekonomii i Finansów oraz Wydziału Zarządzania"
END:VEVENT
END:VCALENDAR