BEGIN:VCALENDAR
VERSION:2.0
PRODID:-//dhtmlXScheduler//NONSGML v2.2//EN
X-WR-CALNAME:Wydarzenia
BEGIN:VEVENT
DTSTART:20240617T110000
DTEND:20240617T200000
UID:1
SUMMARY:Konferencja naukowa III PODLASKIE FORUM FINANSÓW PUBLICZNYCH
END:VEVENT
END:VCALENDAR