BEGIN:VCALENDAR
VERSION:2.0
PRODID:-//dhtmlXScheduler//NONSGML v2.2//EN
X-WR-CALNAME:Wydarzenia
BEGIN:VEVENT
DTSTART:20250519T100000
DTEND:20250519T150000
UID:1
SUMMARY:Konferencja naukowa - WSCHÓD NAUKA DYSKUSJA
END:VEVENT
END:VCALENDAR