BEGIN:VCALENDAR
VERSION:2.0
PRODID:-//dhtmlXScheduler//NONSGML v2.2//EN
X-WR-CALNAME:Wydarzenia
BEGIN:VEVENT
DTSTART:20241016T200000
DTEND:20241016T213000
UID:1
SUMMARY:Instytucje w badaniach ekonomicznych. Dyskusja nad tegoroczną Nagrodą Banku Szwecji im. A. Nobla w dziedzinie nauk ekonomicznych
END:VEVENT
END:VCALENDAR