BEGIN:VCALENDAR
VERSION:2.0
PRODID:-//dhtmlXScheduler//NONSGML v2.2//EN
X-WR-CALNAME:Wydarzenia
BEGIN:VEVENT
DTSTART:20231002T000000
DTEND:20260422T181734
UID:1
SUMMARY:INAUGURACJA ROKU AKADEMICKIEGO 2023/2024
END:VEVENT
END:VCALENDAR