BEGIN:VCALENDAR
VERSION:2.0
PRODID:-//dhtmlXScheduler//NONSGML v2.2//EN
X-WR-CALNAME:Wydarzenia
BEGIN:VEVENT
DTSTART:20230715T100000
DTEND:20260423T045947
UID:1
SUMMARY:GRADUACJA ABSOLWENTÓW 2022/2023
END:VEVENT
END:VCALENDAR