BEGIN:VCALENDAR
VERSION:2.0
PRODID:-//dhtmlXScheduler//NONSGML v2.2//EN
X-WR-CALNAME:Wydarzenia
BEGIN:VEVENT
DTSTART:20250916T000000
DTEND:20250918T000000
UID:1
SUMMARY:EKONOMICZNO – PRAWNY II STOPNIA REJESTRACJA: WYBÓR GRUPY ĆWICZENIOWEJ
END:VEVENT
END:VCALENDAR