BEGIN:VCALENDAR
VERSION:2.0
PRODID:-//dhtmlXScheduler//NONSGML v2.2//EN
X-WR-CALNAME:Wydarzenia
BEGIN:VEVENT
DTSTART:20240205T000000
DTEND:20260422T032539
UID:1
SUMMARY:ANALIZA DANYCH METABOLOMICZNYCH - już 5-6 lutego 2024 - WARSZTATY
END:VEVENT
END:VCALENDAR