BEGIN:VCALENDAR
VERSION:2.0
PRODID:-//dhtmlXScheduler//NONSGML v2.2//EN
X-WR-CALNAME:Wydarzenia
BEGIN:VEVENT
DTSTART:20250303T000000
DTEND:20250303T000000
UID:0
SUMMARY:Co z inwestycjami przedsiębiorstw?
END:VEVENT
BEGIN:VEVENT
DTSTART:20250305T113000
DTEND:20250305T132500
UID:1
SUMMARY:BEZPIECZEŃSTWO W INTERNECIE
END:VEVENT
BEGIN:VEVENT
DTSTART:20250331T000000
DTEND:20250331T000000
UID:2
SUMMARY:Trwa konkurs na radnych V kadencji Młodzieżowego Sejmiku Województwa Podlaskiego
END:VEVENT
BEGIN:VEVENT
DTSTART:20250331T000000
DTEND:20260419T191609
UID:3
SUMMARY:Obowiązkowe szkolenie pracowników WEIF z ochrony danych osobowych
END:VEVENT
BEGIN:VEVENT
DTSTART:20250409T180000
DTEND:20260419T200000
UID:4
SUMMARY:Zaproszenie na wykład, pt. „Megatrendy ekonomiczne w perspektywie Austriackiej Szkoły Ekonomicznej”
END:VEVENT
BEGIN:VEVENT
DTSTART:20250603T113000
DTEND:20260419T191609
UID:5
SUMMARY:Seminarium naukowe z udziałem gości zagranicznych – 3 czerwca 2025 r.
END:VEVENT
BEGIN:VEVENT
DTSTART:20250617T160000
DTEND:20260419T191609
UID:6
SUMMARY:Szkoła Doktorska UwB - SPOTKANIE INFORMACYJNE nt. Trybu i zasad rekrutacji do SD UwB w roku akademickim 2025/2026
END:VEVENT
BEGIN:VEVENT
DTSTART:20251104T094500
DTEND:20260419T191609
UID:7
SUMMARY:Szkolenia z Krajowego Systemu e-Faktur (KSeF) na WEiF UwB - trwają zapisy!
END:VEVENT
BEGIN:VEVENT
DTSTART:20251111T170000
DTEND:20260419T191609
UID:8
SUMMARY:Tu jest mój Dom - koncert
END:VEVENT
BEGIN:VEVENT
DTSTART:20251118T113000
DTEND:20260419T191609
UID:9
SUMMARY:Zaproszenie na prelekcję ekspertów Bird & Bird – audyt śledczy w erze cyfrowej na Wydziale Ekonomii i Finansów UwB
END:VEVENT
BEGIN:VEVENT
DTSTART:20251208T110000
DTEND:20260419T191609
UID:10
SUMMARY:Wspólne ubieranie choinki i kiermasz słodkości
END:VEVENT
END:VCALENDAR